BEGIN:VCALENDAR
VERSION:2.0
PRODID:-//wp-events-plugin.com//7.2.3.1//EN
TZID:America/Denver
X-WR-TIMEZONE:America/Denver
BEGIN:VEVENT
UID:107@eoccert.washco.utah.gov
DTSTART;TZID=America/Denver:20170420T100000
DTEND;TZID=America/Denver:20170420T140000
DTSTAMP:20170103T214802Z
URL:https://eoccert.washco.utah.gov/events/2017-shakeout-exercise/
SUMMARY:2017 ShakeOut Exercise
DESCRIPTION:Emergency Operations Center exercise corresponding with the 201
 7 Utah ShakeOut.  Lunch is provided for those who register.
CATEGORIES:Amateur Radio Emergency Management,Damage Assessment
 Teams,Emergency Medical,Firefighters,Incident Management,Law
 Enforcement,SAR
LOCATION:Washington County EOC\, 197 East Tabernacle St.\, Saint George\, U
 T\, 84770\, United States
GEO:37.108665;-113.579659
X-APPLE-STRUCTURED-LOCATION;VALUE=URI;X-ADDRESS=197 East Tabernacle St.\, S
 aint George\, UT\, 84770\, United States;X-APPLE-RADIUS=100;X-TITLE=Washin
 gton County EOC:geo:37.108665,-113.579659
END:VEVENT
BEGIN:VTIMEZONE
TZID:America/Denver
X-LIC-LOCATION:America/Denver
BEGIN:DAYLIGHT
DTSTART:20170312T030000
TZOFFSETFROM:-0700
TZOFFSETTO:-0600
TZNAME:MDT
END:DAYLIGHT
END:VTIMEZONE
END:VCALENDAR