BEGIN:VCALENDAR
VERSION:2.0
PRODID:-//wp-events-plugin.com//7.2.3.1//EN
TZID:America/Denver
X-WR-TIMEZONE:America/Denver
BEGIN:VEVENT
UID:286@eoccert.washco.utah.gov
DTSTART;TZID=America/Denver:20260103T120000
DTEND;TZID=America/Denver:20260124T150000
DTSTAMP:20251217T210109Z
URL:https://eoccert.washco.utah.gov/events/cert-training-10/
SUMMARY:CERT Training
DESCRIPTION:*** NOTE: You ONLY need to book for January 3rd to attend all 4
  sessions ***\n\nThe CERT basic course meets every Saturday from 12:00 PM 
 to 3:00 PM for four consecutive weeks. Attendance to all eight modules is 
 required to receive a certificate. Course fees allow us to provide student
 s with a manual\, backpack and the basic personal protective equipment req
 uired for the course.\n\nCERT educates individuals about disaster prepared
 ness for hazards that may impact their area and trains them in basic disas
 ter response skills\, such as fire safety\, light search and rescue\, team
  organization\, and disaster medical operations. Using training learned in
  the classroom and during exercises\, CERT volunteers can assist others in
  their community following a disaster when professional responders are not
  immediately available to help. CERT volunteers are also encouraged to sup
 port emergency response agencies by taking an active role in emergency pre
 paredness projects.
CATEGORIES:Community Emergency Response Team
LOCATION:LDS Church on 1905 Rustic Drive\, Saint George\, 1905 Rustic Dr\, 
 Saint George\, Utah\, 84790\, United States
X-APPLE-STRUCTURED-LOCATION;VALUE=URI;X-ADDRESS=1905 Rustic Dr\, Saint Geor
 ge\, Utah\, 84790\, United States;X-APPLE-RADIUS=100;X-TITLE=LDS Church on
  1905 Rustic Drive\, Saint George:geo:0,0
END:VEVENT
BEGIN:VTIMEZONE
TZID:America/Denver
X-LIC-LOCATION:America/Denver
BEGIN:STANDARD
DTSTART:20251102T010000
TZOFFSETFROM:-0600
TZOFFSETTO:-0700
TZNAME:MST
END:STANDARD
END:VTIMEZONE
END:VCALENDAR