BEGIN:VCALENDAR
VERSION:2.0
PRODID:-//wp-events-plugin.com//7.2.3.1//EN
TZID:America/Denver
X-WR-TIMEZONE:America/Denver
BEGIN:VEVENT
UID:256@eoccert.washco.utah.gov
DTSTART;TZID=America/Denver:20210318T090000
DTEND;TZID=America/Denver:20210318T100000
DTSTAMP:20210125T175845Z
URL:https://eoccert.washco.utah.gov/events/communications-drill-2/
SUMMARY:Communications Drill
DESCRIPTION:CERT will be working on a communications drill. Please bring yo
 ur talk about radio if you have one. The EOC will have a few radios to loa
 n out.\n\nThis training will be an in person event with Covid-19 precautio
 ns.\n\nPlease wear a mask\, maintain distance of 6ft\, and stay home if yo
 u are sick.\n\nOnce these slots are filled no more admittance will be allo
 wed.\n\nPlease be sure to register either on this site\, or call the offic
 e @ (435)301-7360
LOCATION:Washington County EOC\, 197 East Tabernacle St.\, Saint George\, U
 T\, 84770\, United States
GEO:37.108665;-113.579659
X-APPLE-STRUCTURED-LOCATION;VALUE=URI;X-ADDRESS=197 East Tabernacle St.\, S
 aint George\, UT\, 84770\, United States;X-APPLE-RADIUS=100;X-TITLE=Washin
 gton County EOC:geo:37.108665,-113.579659
END:VEVENT
BEGIN:VTIMEZONE
TZID:America/Denver
X-LIC-LOCATION:America/Denver
BEGIN:DAYLIGHT
DTSTART:20210314T030000
TZOFFSETFROM:-0700
TZOFFSETTO:-0600
TZNAME:MDT
END:DAYLIGHT
END:VTIMEZONE
END:VCALENDAR