BEGIN:VCALENDAR
VERSION:2.0
PRODID:-//wp-events-plugin.com//7.2.3.1//EN
TZID:America/Denver
X-WR-TIMEZONE:America/Denver
BEGIN:VEVENT
UID:222@eoccert.washco.utah.gov
DTSTART;TZID=America/Denver:20180406T180000
DTEND;TZID=America/Denver:20180406T220000
DTSTAMP:20171206T205854Z
URL:https://eoccert.washco.utah.gov/events/pms-419-engine-operator/
SUMMARY:PMS 419 Engine Operator
DESCRIPTION:Friday Nights:  April 6\,13\,20  and Saturdays April\n7
 \,14\,21\n\nTimes to be determined\n\nLocation to be determined
CATEGORIES:Firefighters
END:VEVENT
BEGIN:VTIMEZONE
TZID:America/Denver
X-LIC-LOCATION:America/Denver
BEGIN:DAYLIGHT
DTSTART:20180311T030000
TZOFFSETFROM:-0700
TZOFFSETTO:-0600
TZNAME:MDT
END:DAYLIGHT
END:VTIMEZONE
END:VCALENDAR